BEGIN:VCALENDAR
VERSION:2.0
PRODID:-//116.90.61.189//NONSGML kigkonsult.se iCalcreator 2.24.2//
CALSCALE:GREGORIAN
METHOD:PUBLISH
X-FROM-URL:https://blacktownpistolclub.com.au
X-WR-TIMEZONE:Australia/Sydney
BEGIN:VTIMEZONE
TZID:Australia/Sydney
X-LIC-LOCATION:Australia/Sydney
BEGIN:STANDARD
DTSTART:20200405T030000
TZOFFSETFROM:+1100
TZOFFSETTO:+1000
RDATE:20210404T030000
TZNAME:AEST
END:STANDARD
BEGIN:DAYLIGHT
DTSTART:20191006T020000
TZOFFSETFROM:+1000
TZOFFSETTO:+1100
RDATE:20201004T020000
TZNAME:AEDT
END:DAYLIGHT
END:VTIMEZONE
BEGIN:VEVENT
UID:ai1ec-1670@blacktownpistolclub.com.au
DTSTAMP:20200228T035220Z
CATEGORIES;LANGUAGE=en-AU:Competition\,IPSC
CONTACT:
DESCRIPTION:
DTSTART;VALUE=DATE:20191123
DTEND;VALUE=DATE:20191125
SEQUENCE:0
SUMMARY:IPSC OPEN
URL:https://blacktownpistolclub.com.au/news/event/ipsc-open/
X-COST-TYPE:free
X-ALT-DESC;FMTTYPE=text/html:<!DOCTYPE HTML PUBLIC '-//W3C//DTD HTML 3.2//E
 N'>\\n<HTML>\\n<HEAD>\\n<TITLE></TITLE>\\n</HEAD>\\n<BODY><div id='pl-363'
   class='panel-layout' ><div id='pg-363-0'  class='panel-grid panel-no-sty
 le' ><div id='pgc-363-0-0'  class='panel-grid-cell' ><div id='panel-363-0-
 0-0' class='so-panel widget widget_text panel-first-child panel-last-child
 ' data-index='0' >			<div class='textwidget'>\n\n<section  class='emerald'><d
 iv class='container'></div></section>\n\n<section  class='alizarin'><div c
 lass='container'> </div></section></div>\n		</div></div></div></div></BODY><
 /HTML>
X-TAGS;LANGUAGE=en-AU:IPSC
END:VEVENT
BEGIN:VEVENT
UID:ai1ec-1721@blacktownpistolclub.com.au
DTSTAMP:20200228T035220Z
CATEGORIES;LANGUAGE=en-AU:IPSC
CONTACT:
DESCRIPTION:
DTSTART;VALUE=DATE:20200209
DTEND;VALUE=DATE:20200210
RDATE;TZID=Australia/Sydney:20200223T000000
SEQUENCE:0
SUMMARY:IPSC Drills Day
URL:https://blacktownpistolclub.com.au/news/event/ipsc-drills-day/
X-COST-TYPE:free
X-ALT-DESC;FMTTYPE=text/html:<!DOCTYPE HTML PUBLIC '-//W3C//DTD HTML 3.2//E
 N'>\\n<HTML>\\n<HEAD>\\n<TITLE></TITLE>\\n</HEAD>\\n<BODY><div id='pl-363'
   class='panel-layout' ><div id='pg-363-0'  class='panel-grid panel-no-sty
 le' ><div id='pgc-363-0-0'  class='panel-grid-cell' ><div id='panel-363-0-
 0-0' class='so-panel widget widget_text panel-first-child panel-last-child
 ' data-index='0' >			<div class='textwidget'>\n\n<section  class='emerald'><d
 iv class='container'></div></section>\n\n<section  class='alizarin'><div c
 lass='container'> </div></section></div>\n		</div></div></div></div></BODY><
 /HTML>
X-TAGS;LANGUAGE=en-AU:IPSC
END:VEVENT
BEGIN:VEVENT
UID:ai1ec-1716@blacktownpistolclub.com.au
DTSTAMP:20200228T035220Z
CATEGORIES;LANGUAGE=en-AU:Competition
CONTACT:Blacktown Pistol Club\; 02 9628 8166\; info@bpc.com.au
DESCRIPTION:
DTSTART;VALUE=DATE:20200320
DTEND;VALUE=DATE:20200323
GEO:-33.722532;+150.806641
LOCATION:Blacktown Pistol Club @ Hammerli Way\, Shanes Park NSW 2747\, Aust
 ralia
SEQUENCE:0
SUMMARY:2020 IPSC State Titles
URL:https://blacktownpistolclub.com.au/news/event/2020-ipsc-state-titles/
X-COST-TYPE:free
X-ALT-DESC;FMTTYPE=text/html:<!DOCTYPE HTML PUBLIC '-//W3C//DTD HTML 3.2//E
 N'>\\n<HTML>\\n<HEAD>\\n<TITLE></TITLE>\\n</HEAD>\\n<BODY><div id='pl-363'
   class='panel-layout' ><div id='pg-363-0'  class='panel-grid panel-no-sty
 le' ><div id='pgc-363-0-0'  class='panel-grid-cell' ><div id='panel-363-0-
 0-0' class='so-panel widget widget_text panel-first-child panel-last-child
 ' data-index='0' >			<div class='textwidget'>\n\n<section  class='emerald'><d
 iv class='container'></div></section>\n\n<section  class='alizarin'><div c
 lass='container'> </div></section></div>\n		</div></div></div></div></BODY><
 /HTML>
X-TAGS;LANGUAGE=en-AU:IPSC\,State Titles
X-COST:INDIVIDUAL ENTRY (First gun) 		$44.00 	$……………  ADDITIONAL ENTRY (METALL
 IC SIGHT) 	$22.00 	$……………  ADDITIONAL ENTRY (PRODUCTION) 	$22.00 	$...........
 ........  JUNIOR ENTRY 				$22.00 	$…………...
END:VEVENT
END:VCALENDAR
