BEGIN:VCALENDAR
VERSION:2.0
PRODID:-//116.90.61.189//NONSGML kigkonsult.se iCalcreator 2.24.2//
CALSCALE:GREGORIAN
METHOD:PUBLISH
X-FROM-URL:https://blacktownpistolclub.com.au
X-WR-TIMEZONE:Australia/Sydney
BEGIN:VTIMEZONE
TZID:Australia/Sydney
X-LIC-LOCATION:Australia/Sydney
BEGIN:STANDARD
DTSTART:20200405T030000
TZOFFSETFROM:+1100
TZOFFSETTO:+1000
RDATE:20210404T030000
TZNAME:AEST
END:STANDARD
BEGIN:DAYLIGHT
DTSTART:20191006T020000
TZOFFSETFROM:+1000
TZOFFSETTO:+1100
RDATE:20201004T020000
TZNAME:AEDT
END:DAYLIGHT
END:VTIMEZONE
BEGIN:VEVENT
UID:ai1ec-933@blacktownpistolclub.com.au
DTSTAMP:20200228T035300Z
CATEGORIES;LANGUAGE=en-AU:New Shooters Induction
CONTACT:Hayley\; (02) 9628 8166\; info@bpc.com.au\; http://blacktownpistolc
 lub.com.au
DESCRIPTION:
DTSTART;TZID=Australia/Sydney:20171014T090000
DTEND;TZID=Australia/Sydney:20171014T123000
GEO:-33.722532;+150.806641
LOCATION:Blacktown Pistol Club @ Hammerli Way\, Shanes Park NSW 2747\, Aust
 ralia
SEQUENCE:0
SUMMARY:New Shooters Induction Day
URL:https://blacktownpistolclub.com.au/news/event/new-shooters-induction-da
 y-saturday-1st-april/
X-COST-TYPE:free
X-ALT-DESC;FMTTYPE=text/html:<!DOCTYPE HTML PUBLIC '-//W3C//DTD HTML 3.2//E
 N'>\\n<HTML>\\n<HEAD>\\n<TITLE></TITLE>\\n</HEAD>\\n<BODY><div id='pl-363'
   class='panel-layout' ><div id='pg-363-0'  class='panel-grid panel-no-sty
 le' ><div id='pgc-363-0-0'  class='panel-grid-cell' ><div id='panel-363-0-
 0-0' class='so-panel widget widget_text panel-first-child panel-last-child
 ' data-index='0' >			<div class='textwidget'>\n\n<section  class='emerald'><d
 iv class='container'></div></section>\n\n<section  class='alizarin'><div c
 lass='container'> </div></section></div>\n		</div></div></div></div></BODY><
 /HTML>
X-COST:Membership Fees
END:VEVENT
BEGIN:VEVENT
UID:ai1ec-1180@blacktownpistolclub.com.au
DTSTAMP:20200228T035300Z
CATEGORIES;LANGUAGE=en-AU:New Shooters Induction
CONTACT:Michelle\; 02 9628 8166\; info@bpc.com.au
DESCRIPTION:
DTSTART;TZID=Australia/Sydney:20171111T090000
DTEND;TZID=Australia/Sydney:20171111T123000
GEO:-33.722283;+150.807174
LOCATION:Blacktown Pistol Club @ Hammerli Way\, Shalvey NSW 2770\, Australi
 a
RDATE;TZID=Australia/Sydney:20200104T090000
RDATE;TZID=Australia/Sydney:20200105T090000
RDATE;TZID=Australia/Sydney:20200201T090000
RDATE;TZID=Australia/Sydney:20200307T090000
RDATE;TZID=Australia/Sydney:20200308T090000
SEQUENCE:0
SUMMARY:New Shooter Induction Day
URL:https://blacktownpistolclub.com.au/news/event/new-shooter-induction-day
 /
X-COST-TYPE:free
X-ALT-DESC;FMTTYPE=text/html:<!DOCTYPE HTML PUBLIC '-//W3C//DTD HTML 3.2//E
 N'>\\n<HTML>\\n<HEAD>\\n<TITLE></TITLE>\\n</HEAD>\\n<BODY><div id='pl-363'
   class='panel-layout' ><div id='pg-363-0'  class='panel-grid panel-no-sty
 le' ><div id='pgc-363-0-0'  class='panel-grid-cell' ><div id='panel-363-0-
 0-0' class='so-panel widget widget_text panel-first-child panel-last-child
 ' data-index='0' >			<div class='textwidget'>\n\n<section  class='emerald'><d
 iv class='container'></div></section>\n\n<section  class='alizarin'><div c
 lass='container'> </div></section></div>\n		</div></div></div></div></BODY><
 /HTML>
X-COST:Membership fee $508
END:VEVENT
BEGIN:VEVENT
UID:ai1ec-1671@blacktownpistolclub.com.au
DTSTAMP:20200228T035300Z
CATEGORIES;LANGUAGE=en-AU:New Shooters Induction
CONTACT:
DESCRIPTION:
DTSTART;TZID=Australia/Sydney:20191101T093000
DTEND;TZID=Australia/Sydney:20191101T123000
RDATE;TZID=Australia/Sydney:20191103T093000
RDATE;TZID=Australia/Sydney:20191116T093000
RDATE;TZID=Australia/Sydney:20191117T093000
RDATE;TZID=Australia/Sydney:20200104T093000
RDATE;TZID=Australia/Sydney:20200105T093000
RDATE;TZID=Australia/Sydney:20200118T093000
RDATE;TZID=Australia/Sydney:20200119T093000
RDATE;TZID=Australia/Sydney:20200201T093000
RDATE;TZID=Australia/Sydney:20200202T093000
RDATE;TZID=Australia/Sydney:20200215T093000
RDATE;TZID=Australia/Sydney:20200216T093000
RDATE;TZID=Australia/Sydney:20200307T093000
RDATE;TZID=Australia/Sydney:20200308T093000
RDATE;TZID=Australia/Sydney:20200321T093000
RDATE;TZID=Australia/Sydney:20200322T093000
SEQUENCE:0
SUMMARY:New Shooters Supervised Match
URL:https://blacktownpistolclub.com.au/news/event/new-shooters-supervised-m
 atch/
X-COST-TYPE:free
X-ALT-DESC;FMTTYPE=text/html:<!DOCTYPE HTML PUBLIC '-//W3C//DTD HTML 3.2//E
 N'>\\n<HTML>\\n<HEAD>\\n<TITLE></TITLE>\\n</HEAD>\\n<BODY><div id='pl-363'
   class='panel-layout' ><div id='pg-363-0'  class='panel-grid panel-no-sty
 le' ><div id='pgc-363-0-0'  class='panel-grid-cell' ><div id='panel-363-0-
 0-0' class='so-panel widget widget_text panel-first-child panel-last-child
 ' data-index='0' >			<div class='textwidget'>\n\n<section  class='emerald'><d
 iv class='container'></div></section>\n\n<section  class='alizarin'><div c
 lass='container'> </div></section></div>\n		</div></div></div></div></BODY><
 /HTML>
END:VEVENT
END:VCALENDAR
