BEGIN:VCALENDAR
VERSION:2.0
PRODID:-//116.90.61.189//NONSGML kigkonsult.se iCalcreator 2.24.2//
CALSCALE:GREGORIAN
METHOD:PUBLISH
X-WR-CALNAME:Blacktown Pistol Club
X-WR-CALDESC:
X-FROM-URL:https://blacktownpistolclub.com.au
X-WR-TIMEZONE:Australia/Sydney
BEGIN:VTIMEZONE
TZID:Australia/Sydney
X-LIC-LOCATION:Australia/Sydney
BEGIN:STANDARD
DTSTART:20190407T030000
TZOFFSETFROM:+1100
TZOFFSETTO:+1000
RDATE:20200405T030000
TZNAME:AEST
END:STANDARD
BEGIN:DAYLIGHT
DTSTART:20181007T020000
TZOFFSETFROM:+1000
TZOFFSETTO:+1100
RDATE:20191006T020000
TZNAME:AEDT
END:DAYLIGHT
END:VTIMEZONE
BEGIN:VEVENT
UID:ai1ec-1315@blacktownpistolclub.com.au
DTSTAMP:20190228T204955Z
CATEGORIES:
CONTACT:Glenn\; 96 288 166\; info@bpc.com.au
DESCRIPTION:<div id='pl-363'  class='panel-layout' ><div id='pg-363-0'  cla
 ss='panel-grid panel-no-style' ><div id='pgc-363-0-0'  class='panel-grid-c
 ell' ><div id='panel-363-0-0-0' class='so-panel widget widget_text panel-f
 irst-child panel-last-child' data-index='0' >			<div class='textwidget'>\n\n<
 section  class='emerald'><div class='container'></div></section>\n\n<secti
 on  class='alizarin'><div class='container'> </div></section></div>\n		</div
 ></div></div></div>
DTSTART;TZID=Australia/Sydney:20180428T090000
DTEND;TZID=Australia/Sydney:20180428T140000
GEO:-33.722532;+150.806641
LOCATION:Blacktown Pistol Club @ Hammerli Way\, Shanes Park NSW 2747\, Aust
 ralia
RDATE;TZID=Australia/Sydney:20180428T090000
RDATE;TZID=Australia/Sydney:20180429T090000
RDATE;TZID=Australia/Sydney:20180512T090000
RDATE;TZID=Australia/Sydney:20180513T090000
RDATE;TZID=Australia/Sydney:20180526T090000
RDATE;TZID=Australia/Sydney:20180527T090000
SEQUENCE:0
SUMMARY:Club Working Bee
URL:https://blacktownpistolclub.com.au/news/event/club-working-bee/
X-COST-TYPE:free
END:VEVENT
END:VCALENDAR
